BEGIN:VCALENDAR
VERSION:2.0
PRODID:-//Explore Tishomingo County - ECPv6.15.20//NONSGML v1.0//EN
CALSCALE:GREGORIAN
METHOD:PUBLISH
X-WR-CALNAME:Explore Tishomingo County
X-ORIGINAL-URL:https://exploretishomingocounty.com
X-WR-CALDESC:Events for Explore Tishomingo County
REFRESH-INTERVAL;VALUE=DURATION:PT1H
X-Robots-Tag:noindex
X-PUBLISHED-TTL:PT1H
BEGIN:VTIMEZONE
TZID:America/Chicago
BEGIN:DAYLIGHT
TZOFFSETFROM:-0600
TZOFFSETTO:-0500
TZNAME:CDT
DTSTART:20240310T080000
END:DAYLIGHT
BEGIN:STANDARD
TZOFFSETFROM:-0500
TZOFFSETTO:-0600
TZNAME:CST
DTSTART:20241103T070000
END:STANDARD
BEGIN:DAYLIGHT
TZOFFSETFROM:-0600
TZOFFSETTO:-0500
TZNAME:CDT
DTSTART:20250309T080000
END:DAYLIGHT
BEGIN:STANDARD
TZOFFSETFROM:-0500
TZOFFSETTO:-0600
TZNAME:CST
DTSTART:20251102T070000
END:STANDARD
BEGIN:DAYLIGHT
TZOFFSETFROM:-0600
TZOFFSETTO:-0500
TZNAME:CDT
DTSTART:20260308T080000
END:DAYLIGHT
BEGIN:STANDARD
TZOFFSETFROM:-0500
TZOFFSETTO:-0600
TZNAME:CST
DTSTART:20261101T070000
END:STANDARD
END:VTIMEZONE
BEGIN:VEVENT
DTSTART;TZID=America/Chicago:20251101T090000
DTEND;TZID=America/Chicago:20251101T150000
DTSTAMP:20260421T121621
CREATED:20250922T130954Z
LAST-MODIFIED:20250922T130954Z
UID:10000046-1761987600-1762009200@exploretishomingocounty.com
SUMMARY:CHRISTMAS BAZAAR
DESCRIPTION:Christmas Bazaar at Cedar Creek Ridge Farms in Tishomingo. \nCrafts\, gifts\, sweets\, and food. Come out and shop local vendors and grab some good food.\n28 Cr 98\, Tishomingo\, MS 38873\n662 424 1294 \nI have a few vendor spots still available
URL:https://exploretishomingocounty.com/event/christmas-bazaar/
LOCATION:Cedar Creek Ridge\, 20 cr 98\, Tishomingo\, MS\, 38873\, United States
CATEGORIES:Tishomingo
ATTACH;FMTTYPE=image/jpeg:https://exploretishomingocounty.com/wp-content/uploads/2025/09/1000019899-scaled.jpg
ORGANIZER;CN="Angela Simpson":MAILTO:Ccrfarms@outlook.com
END:VEVENT
END:VCALENDAR