BEGIN:VCALENDAR
VERSION:2.0
PRODID:-//Explore Tishomingo County - ECPv6.15.20//NONSGML v1.0//EN
CALSCALE:GREGORIAN
METHOD:PUBLISH
X-ORIGINAL-URL:https://exploretishomingocounty.com
X-WR-CALDESC:Events for Explore Tishomingo County
REFRESH-INTERVAL;VALUE=DURATION:PT1H
X-Robots-Tag:noindex
X-PUBLISHED-TTL:PT1H
BEGIN:VTIMEZONE
TZID:America/Chicago
BEGIN:DAYLIGHT
TZOFFSETFROM:-0600
TZOFFSETTO:-0500
TZNAME:CDT
DTSTART:20250309T080000
END:DAYLIGHT
BEGIN:STANDARD
TZOFFSETFROM:-0500
TZOFFSETTO:-0600
TZNAME:CST
DTSTART:20251102T070000
END:STANDARD
BEGIN:DAYLIGHT
TZOFFSETFROM:-0600
TZOFFSETTO:-0500
TZNAME:CDT
DTSTART:20260308T080000
END:DAYLIGHT
BEGIN:STANDARD
TZOFFSETFROM:-0500
TZOFFSETTO:-0600
TZNAME:CST
DTSTART:20261101T070000
END:STANDARD
BEGIN:DAYLIGHT
TZOFFSETFROM:-0600
TZOFFSETTO:-0500
TZNAME:CDT
DTSTART:20270314T080000
END:DAYLIGHT
BEGIN:STANDARD
TZOFFSETFROM:-0500
TZOFFSETTO:-0600
TZNAME:CST
DTSTART:20271107T070000
END:STANDARD
END:VTIMEZONE
BEGIN:VEVENT
DTSTART;TZID=America/Chicago:20260515T160000
DTEND;TZID=America/Chicago:20261002T190000
DTSTAMP:20260422T033635
CREATED:20250226T183506Z
LAST-MODIFIED:20260317T183150Z
UID:10000030-1778860800-1790967600@exploretishomingocounty.com
SUMMARY:Tishomingo County Farmers Market
DESCRIPTION:  \nThe Farmers Market is a lively and vibrant event that brings the community together to enjoy fresh\, local produce and handmade goods. In addition to the wide variety of vendors\, the market features live music that creates a festive atmosphere for visitors to enjoy while shopping. Families can also delight in children’s activities\, including games\, crafts\, and interactive experiences\, making it a perfect outing for all ages. With its blend of local flavor\, entertainment\, and fun for the whole family\, the Farmers Market is a great way to spend a day supporting local businesses and enjoying the community spirit. The market is held every Friday night starting May 15th thru October 2nd from 4pm to 7pm in Jaybird Park.
URL:https://exploretishomingocounty.com/event/tishomingo-county-farmers-market/
CATEGORIES:Iuka
ATTACH;FMTTYPE=image/png:https://exploretishomingocounty.com/wp-content/uploads/2025/02/Blue-Farmers-Market-Logo.png
END:VEVENT
BEGIN:VEVENT
DTSTART;VALUE=DATE:20260829
DTEND;VALUE=DATE:20260830
DTSTAMP:20260422T033635
CREATED:20240822T150836Z
LAST-MODIFIED:20260317T182920Z
UID:10000005-1787961600-1788047999@exploretishomingocounty.com
SUMMARY:Iuka Heritage Day - Wheels of NE MS Antique Car Show
DESCRIPTION:The Iuka\, MS Heritage Day Festival is a vibrant celebration of the town’s rich history and culture\, drawing locals and visitors alike for a day of fun and tradition. Held annually\, the festival features a variety of events\, including live music\, arts and crafts vendors\, and delicious Southern cuisine. With activities for all ages\, from games and contests to historical exhibits\, Heritage Day is a wonderful way to experience the heart of Iuka\, celebrate its past\, and bring the community together in a festive atmosphere.  More info at: https://www.facebook.com/iukafestival/
URL:https://exploretishomingocounty.com/event/iuka-heritage-day-wheels-of-ne-ms-antique-car-show/
CATEGORIES:Iuka
ATTACH;FMTTYPE=image/jpeg:https://exploretishomingocounty.com/wp-content/uploads/2025/02/Iuka-Heritage-Festival.jpg
END:VEVENT
BEGIN:VEVENT
DTSTART;VALUE=DATE:20261002
DTEND;VALUE=DATE:20261004
DTSTAMP:20260422T033635
CREATED:20240822T152359Z
LAST-MODIFIED:20260317T181537Z
UID:10000009-1790899200-1791071999@exploretishomingocounty.com
SUMMARY:Trash & Treasure Along the Tenn-Tom
DESCRIPTION:This event consist of 50+miles of yard sales along and adjacent to the Tenn-Tom Waterway located in Tishomingo County\, MS. \nThe route includes Highway 25 north to the Mississippi-Tennessee state line and Highway 25 south to the Tishomingo- Itawamba county line\, and Hwy 72 east to Burnsville. \nBeginning in 2007\, this event draws approximately 3\,000+ people each year. Everyone is welcome! There is no cost to set up. You can set up to sell or stop by and browse\, either way have fun. Set up is on a first come first served basis. Visit our Facebook page at Facebook.com/visittishomingo
URL:https://exploretishomingocounty.com/event/trash-treasure-along-the-tenn-tom/
CATEGORIES:Belmont,Burnsville,Iuka,Tishomingo
ATTACH;FMTTYPE=image/jpeg:https://exploretishomingocounty.com/wp-content/uploads/2024/08/Trash-Treasures.jpg
END:VEVENT
BEGIN:VEVENT
DTSTART;VALUE=DATE:20261013
DTEND;VALUE=DATE:20261018
DTSTAMP:20260422T033635
CREATED:20240822T152904Z
LAST-MODIFIED:20260317T183408Z
UID:10000010-1791849600-1792281599@exploretishomingocounty.com
SUMMARY:Tishomingo County Fair
DESCRIPTION:
URL:https://exploretishomingocounty.com/event/tishomingo-county-fair/
CATEGORIES:Iuka
ATTACH;FMTTYPE=image/jpeg:https://exploretishomingocounty.com/wp-content/uploads/2024/08/countyfair.jpg
END:VEVENT
BEGIN:VEVENT
DTSTART;VALUE=DATE:20261017
DTEND;VALUE=DATE:20261019
DTSTAMP:20260422T033635
CREATED:20260326T141512Z
LAST-MODIFIED:20260330T132918Z
UID:10000096-1792195200-1792367999@exploretishomingocounty.com
SUMMARY:Tri-State Gambler 500
DESCRIPTION:Tri-State Gambler 500 is a public lands clean up surrounding Pickwick Lake. Our mission is to pick up trash and remove abandoned vehicles and boats. Everyone is welcome to join.
URL:https://exploretishomingocounty.com/event/tri-state-gambler-500/
CATEGORIES:Iuka
ATTACH;FMTTYPE=image/jpeg:https://exploretishomingocounty.com/wp-content/uploads/2026/03/inbound3425964931531556158.jpg
END:VEVENT
BEGIN:VEVENT
DTSTART;TZID=America/Chicago:20261204T180000
DTEND;TZID=America/Chicago:20261204T190000
DTSTAMP:20260422T033635
CREATED:20241125T184755Z
LAST-MODIFIED:20260317T180927Z
UID:10000020-1796407200-1796410800@exploretishomingocounty.com
SUMMARY:Iuka Christmas Parade
DESCRIPTION:
URL:https://exploretishomingocounty.com/event/iuka-christmas-parade/
CATEGORIES:Iuka
END:VEVENT
BEGIN:VEVENT
DTSTART;TZID=America/Chicago:20261218T180000
DTEND;TZID=America/Chicago:20261218T200000
DTSTAMP:20260422T033635
CREATED:20240822T153532Z
LAST-MODIFIED:20260317T180657Z
UID:10000013-1797616800-1797624000@exploretishomingocounty.com
SUMMARY:Dickens Christmas
DESCRIPTION:Come experience a step back in time…..
URL:https://exploretishomingocounty.com/event/dickens-christmas/
CATEGORIES:Iuka
ATTACH;FMTTYPE=image/jpeg:https://exploretishomingocounty.com/wp-content/uploads/2024/08/946737_570460006373042_102912182_n.jpg
END:VEVENT
END:VCALENDAR