BEGIN:VCALENDAR
VERSION:2.0
PRODID:-//Explore Tishomingo County - ECPv6.15.20//NONSGML v1.0//EN
CALSCALE:GREGORIAN
METHOD:PUBLISH
X-WR-CALNAME:Explore Tishomingo County
X-ORIGINAL-URL:https://exploretishomingocounty.com
X-WR-CALDESC:Events for Explore Tishomingo County
REFRESH-INTERVAL;VALUE=DURATION:PT1H
X-Robots-Tag:noindex
X-PUBLISHED-TTL:PT1H
BEGIN:VTIMEZONE
TZID:America/Chicago
BEGIN:DAYLIGHT
TZOFFSETFROM:-0600
TZOFFSETTO:-0500
TZNAME:CDT
DTSTART:20250309T080000
END:DAYLIGHT
BEGIN:STANDARD
TZOFFSETFROM:-0500
TZOFFSETTO:-0600
TZNAME:CST
DTSTART:20251102T070000
END:STANDARD
BEGIN:DAYLIGHT
TZOFFSETFROM:-0600
TZOFFSETTO:-0500
TZNAME:CDT
DTSTART:20260308T080000
END:DAYLIGHT
BEGIN:STANDARD
TZOFFSETFROM:-0500
TZOFFSETTO:-0600
TZNAME:CST
DTSTART:20261101T070000
END:STANDARD
BEGIN:DAYLIGHT
TZOFFSETFROM:-0600
TZOFFSETTO:-0500
TZNAME:CDT
DTSTART:20270314T080000
END:DAYLIGHT
BEGIN:STANDARD
TZOFFSETFROM:-0500
TZOFFSETTO:-0600
TZNAME:CST
DTSTART:20271107T070000
END:STANDARD
END:VTIMEZONE
BEGIN:VEVENT
DTSTART;VALUE=DATE:20261017
DTEND;VALUE=DATE:20261019
DTSTAMP:20260425T051612
CREATED:20260326T141512Z
LAST-MODIFIED:20260330T132918Z
UID:10000096-1792195200-1792367999@exploretishomingocounty.com
SUMMARY:Tri-State Gambler 500
DESCRIPTION:Tri-State Gambler 500 is a public lands clean up surrounding Pickwick Lake. Our mission is to pick up trash and remove abandoned vehicles and boats. Everyone is welcome to join.
URL:https://exploretishomingocounty.com/event/tri-state-gambler-500/
CATEGORIES:Iuka
ATTACH;FMTTYPE=image/jpeg:https://exploretishomingocounty.com/wp-content/uploads/2026/03/inbound3425964931531556158.jpg
END:VEVENT
END:VCALENDAR