BEGIN:VCALENDAR
VERSION:2.0
PRODID:-//Explore Tishomingo County - ECPv6.15.20//NONSGML v1.0//EN
CALSCALE:GREGORIAN
METHOD:PUBLISH
X-ORIGINAL-URL:https://exploretishomingocounty.com
X-WR-CALDESC:Events for Explore Tishomingo County
REFRESH-INTERVAL;VALUE=DURATION:PT1H
X-Robots-Tag:noindex
X-PUBLISHED-TTL:PT1H
BEGIN:VTIMEZONE
TZID:America/Chicago
BEGIN:DAYLIGHT
TZOFFSETFROM:-0600
TZOFFSETTO:-0500
TZNAME:CDT
DTSTART:20250309T080000
END:DAYLIGHT
BEGIN:STANDARD
TZOFFSETFROM:-0500
TZOFFSETTO:-0600
TZNAME:CST
DTSTART:20251102T070000
END:STANDARD
BEGIN:DAYLIGHT
TZOFFSETFROM:-0600
TZOFFSETTO:-0500
TZNAME:CDT
DTSTART:20260308T080000
END:DAYLIGHT
BEGIN:STANDARD
TZOFFSETFROM:-0500
TZOFFSETTO:-0600
TZNAME:CST
DTSTART:20261101T070000
END:STANDARD
BEGIN:DAYLIGHT
TZOFFSETFROM:-0600
TZOFFSETTO:-0500
TZNAME:CDT
DTSTART:20270314T080000
END:DAYLIGHT
BEGIN:STANDARD
TZOFFSETFROM:-0500
TZOFFSETTO:-0600
TZNAME:CST
DTSTART:20271107T070000
END:STANDARD
END:VTIMEZONE
BEGIN:VEVENT
DTSTART;TZID=America/Chicago:20260925T200000
DTEND;TZID=America/Chicago:20260925T220000
DTSTAMP:20260423T123942
CREATED:20240822T151802Z
LAST-MODIFIED:20260317T183834Z
UID:10000090-1790366400-1790373600@exploretishomingocounty.com
SUMMARY:Buckin’ on the Bigbee Rodeo
DESCRIPTION:The town of Burnsville\, Mississippi\, is gearing up for the highly anticipated “Buckin’ On the Bigbee Rodeo and the 33rd Annual Burnsville Waterway Festival\,” set to take place this year. Excitement is building as locals and visitors prepare for a wild and wonderful fusion of rodeo thrills and Southern charm. \nAs the sun begins to dip on Friday evening\, all eyes will be on the Rodeo Arena. Spectators are expected to fill the stands to capacity\, eager to witness heart-pounding bull riding\, barrel racing\, and calf roping events. The rodeo promises to showcase the incredible talents of cowboys and cowgirls from near and far. \nThe sanctioned bull riding competition is anticipated to be one of the main attractions\, where daring riders will try to hold on tight to the back of massive bulls for a thrilling eight seconds. A rodeo clown will be on hand to provide both safety and humor\, ensuring the event’s entertainment value is sky-high. \n  \n 
URL:https://exploretishomingocounty.com/event/buckin-on-the-bigbee-rodeo/2026-09-25/
CATEGORIES:Burnsville
ATTACH;FMTTYPE=image/jpeg:https://exploretishomingocounty.com/wp-content/uploads/2025/02/Buckin-on-the-Bigbee.jpg
END:VEVENT
END:VCALENDAR