BEGIN:VCALENDAR
VERSION:2.0
PRODID:-//Explore Tishomingo County - ECPv6.15.20//NONSGML v1.0//EN
CALSCALE:GREGORIAN
METHOD:PUBLISH
X-ORIGINAL-URL:https://exploretishomingocounty.com
X-WR-CALDESC:Events for Explore Tishomingo County
REFRESH-INTERVAL;VALUE=DURATION:PT1H
X-Robots-Tag:noindex
X-PUBLISHED-TTL:PT1H
BEGIN:VTIMEZONE
TZID:America/Chicago
BEGIN:DAYLIGHT
TZOFFSETFROM:-0600
TZOFFSETTO:-0500
TZNAME:CDT
DTSTART:20240310T080000
END:DAYLIGHT
BEGIN:STANDARD
TZOFFSETFROM:-0500
TZOFFSETTO:-0600
TZNAME:CST
DTSTART:20241103T070000
END:STANDARD
BEGIN:DAYLIGHT
TZOFFSETFROM:-0600
TZOFFSETTO:-0500
TZNAME:CDT
DTSTART:20250309T080000
END:DAYLIGHT
BEGIN:STANDARD
TZOFFSETFROM:-0500
TZOFFSETTO:-0600
TZNAME:CST
DTSTART:20251102T070000
END:STANDARD
BEGIN:DAYLIGHT
TZOFFSETFROM:-0600
TZOFFSETTO:-0500
TZNAME:CDT
DTSTART:20260308T080000
END:DAYLIGHT
BEGIN:STANDARD
TZOFFSETFROM:-0500
TZOFFSETTO:-0600
TZNAME:CST
DTSTART:20261101T070000
END:STANDARD
END:VTIMEZONE
BEGIN:VEVENT
DTSTART;TZID=America/Chicago:20250412T090000
DTEND;TZID=America/Chicago:20250412T140000
DTSTAMP:20260421T074258
CREATED:20250226T172558Z
LAST-MODIFIED:20250226T172558Z
UID:10000024-1744448400-1744466400@exploretishomingocounty.com
SUMMARY:Jaybird Spring Market
DESCRIPTION:Spring Jaybird Market date is set April 12 downtown Historic Iuka. IDEA is looking forward to this great event of crafters boutiques food and lots of shopping.
URL:https://exploretishomingocounty.com/event/jaybird-spring-market/
CATEGORIES:Iuka
ATTACH;FMTTYPE=image/jpeg:https://exploretishomingocounty.com/wp-content/uploads/2025/02/Spring-Market-2025.jpg
END:VEVENT
BEGIN:VEVENT
DTSTART;TZID=America/Chicago:20250412T110000
DTEND;TZID=America/Chicago:20250412T140000
DTSTAMP:20260421T074258
CREATED:20250227T205441Z
LAST-MODIFIED:20250227T205441Z
UID:10000036-1744455600-1744466400@exploretishomingocounty.com
SUMMARY:Easter Egg Hunt
DESCRIPTION:
URL:https://exploretishomingocounty.com/event/easter-egg-hunt/
CATEGORIES:Tishomingo
ATTACH;FMTTYPE=image/jpeg:https://exploretishomingocounty.com/wp-content/uploads/2025/02/Easter-Egg-Hunt.jpg
END:VEVENT
END:VCALENDAR